BEGIN:VCALENDAR
VERSION:2.0
PRODID:-//Tukios.com/
BEGIN:VEVENT
UID:865c9473-90c6-491a-a504-9089e0d05bb9@www.nelsonfuneralhome.com
DTSTAMP:20260423T192733Z
DTSTART:20260425T000000Z
DTEND:20260425T020000Z
SUMMARY:Prayer Service
DESCRIPTION:
URL:https://www.nelsonfuneralhome.com/obituaries/bobby-brown
LOCATION: 162 E 400 N  Logan UT 84321
GEO:41.73844;-111.8306351
END:VEVENT
END:VCALENDAR