BEGIN:VCALENDAR
VERSION:2.0
PRODID:-//Tukios.com/
BEGIN:VEVENT
UID:0cdd6d1f-755f-40ac-877f-198bd4f09109@www.nelsonfuneralhome.com
DTSTAMP:20260421T211915Z
DTSTART:20260424T160000Z
DTEND:20260424T170000Z
SUMMARY:Viewing
DESCRIPTION:
URL:https://www.nelsonfuneralhome.com/obituaries/jay-bennett
LOCATION: 162 E 400 N  Logan UT 84321
GEO:41.73844;-111.8306351
END:VEVENT
END:VCALENDAR