BEGIN:VCALENDAR
VERSION:2.0
PRODID:-//Tukios.com/
BEGIN:VEVENT
UID:2dcb6c51-5bb8-4068-bb85-0660296dcdba@www.nelsonfuneralhome.com
DTSTAMP:20260421T212300Z
DTSTART:20260424T173000Z
DTEND:20260424T183000Z
SUMMARY:Funeral Service
DESCRIPTION:
URL:https://www.nelsonfuneralhome.com/obituaries/jay-bennett
LOCATION: 162 E 400 N  Logan UT 84321
GEO:41.73844;-111.8306351
END:VEVENT
END:VCALENDAR