BEGIN:VCALENDAR
VERSION:2.0
PRODID:-//Tukios.com/
BEGIN:VEVENT
UID:20d643d7-c534-4f88-b3d5-d46677f43413@www.nelsonfuneralhome.com
DTSTAMP:20260421T211535Z
DTSTART:20260424
SUMMARY:Burial
DESCRIPTION:
URL:https://www.nelsonfuneralhome.com/obituaries/jay-bennett
LOCATION:Syracuse City Cemetery 1250 S 1000 W  Syracuse UT 84075
GEO:41.0956665;-112.045436
END:VEVENT
END:VCALENDAR